{"text_format":"3","workbook":"xlsx","n_sheets":1,"sheets":["Expense Form"],"not_rendered":{"images":1,"defined_names":1},"read":"whole","date_system":"1900"}

{"sheet":"Expense Form","index":0,"n_rows":242,"n_cols":20,"rows_kept":242,"merged":[[11,2,11,5],[132,1,134,1],[132,3,132,11],[133,3,133,6],[133,8,133,11],[134,3,134,11],[134,13,134,15],[134,17,134,19],[135,2,135,8],[135,10,135,11],[135,19,241,19],[136,2,136,8],[136,10,138,11],[137,2,137,8],[138,2,138,8],[139,2,139,6],[139,7,139,8],[139,10,142,11],[140,2,140,6],[140,7,140,8],[141,2,141,6],[141,7,141,8],[142,2,142,6],[142,7,142,8],[143,2,143,6],[143,7,143,8],[143,10,143,11],[144,2,144,6],[144,7,144,8],[144,10,145,11],[145,2,145,6],[145,7,145,8],[146,2,146,8],[146,10,149,11],[147,2,147,8],[148,2,148,8],[149,2,149,8],[150,2,150,8],[150,10,150,11],[151,2,151,8],[151,10,152,11],[152,2,152,8],[153,1,153,4],[153,6,153,7],[153,8,153,9],[154,1,154,7],[154,9,155,11],[155,1,155,7],[156,2,156,5],[156,7,159,7],[156,8,159,8],[156,9,159,9],[156,10,176,11],[157,1,160,1],[157,2,157,5],[158,2,158,5],[159,2,159,6],[160,2,160,5],[161,1,164,1],[161,2,161,5],[161,7,163,7],[161,8,163,8],[161,9,163,9],[162,2,162,5],[163,2,163,6],[164,2,164,5],[165,1,167,1],[165,2,165,5],[166,2,166,6],[167,2,167,5],[168,1,170,1],[168,2,168,5],[169,2,169,6],[170,2,170,5],[171,1,173,1],[171,2,171,5],[172,2,172,6],[173,2,173,5],[174,1,176,1],[174,2,174,5],[175,2,175,6],[176,2,176,5],[177,1,179,1],[177,2,177,5],[177,10,177,11],[178,2,178,6],[178,10,179,11],[179,2,179,5],[180,1,180,9],[181,5,181,6],[181,7,184,9],[182,5,182,6],[183,5,183,6],[184,5,184,6],[185,5,185,6],[186,5,186,6],[187,5,187,6],[188,5,188,6],[189,5,189,6],[190,5,190,6],[191,5,191,6],[191,10,191,11],[192,5,192,6],[192,10,194,11],[193,5,193,6],[193,7,194,9],[194,5,194,6],[195,1,195,9],[195,10,202,11],[196,1,196,9],[197,1,197,9],[198,3,198,9],[199,1,199,9],[200,2,200,9],[201,1,201,2],[201,4,202,9],[202,1,202,3],[203,1,204,5],[203,6,204,9],[203,10,204,11],[206,1,206,11],[207,1,207,2],[207,3,207,8],[207,10,208,11],[208,1,208,2],[208,3,208,8],[209,1,209,2],[209,3,209,8],[209,10,210,11],[210,1,210,2],[210,3,210,8],[211,1,211,2],[211,3,211,8],[211,10,212,11],[212,1,212,2],[212,3,212,8],[214,1,215,2],[214,3,215,8],[214,9,215,9],[214,10,215,11],[216,1,217,2],[216,3,217,8],[218,1,219,2],[218,3,219,8],[218,9,219,9],[218,10,219,11],[220,1,221,8],[220,9,221,9],[220,10,221,11],[222,1,222,11],[223,1,223,11],[224,1,227,2],[224,3,227,6],[224,7,227,11]]}
[{"$nulls":13},"DO NOT DELETE VALIDATION LIST INFO BELOW"]
[{"$nulls":13},"Yes"]
[{"$nulls":13},"No"]
[{"$nulls":13},"Mileage is not payable for this meeting type."]
[{"$nulls":13},"Trip to Location: Would this have been a WCB in-office day for you?  →"]
[null,null,"No Breakfast$>6:30am Start","No Lunch$>12:0pm Start","No Dinner$ Home < 6:30 pm",{"$nulls":8},"Return trip from Location: Would this have been a WCB in-office day for you?"]
[null,"Effective April 1, 2022: ",{"v":16,"d":"16.00"},{"v":18,"d":"18.00"},{"v":30,"d":"30.00"},{"v":10,"d":"10.00"},{"$nulls":7},"→TRIP to LOCATION: Enter Addresses e.g. Home (1122 Boogie Ave) to Conference (101 Picket Fence Rd)←"]
[null,null,"Included w/Hotel or Event","Included w/Hotel or Event","Included w/Hotel or Event","No Overnight=No Incidental"]
[null,null,"Replacement Meal Pay't",{"$f":"+C9","v":"Replacement Meal Pay't"},{"$f":"+D9","v":"Replacement Meal Pay't"},{"$nulls":8},"→RETURN TRIP Enter Addresses e.g. Conference (101 Picket Fence Rd) to Home (1122 Boogie Ave)←"]
[{"$nulls":13},"↓Enter 2nd Line below to deduct normal Home/Office Commute for workday travel↓"]
[null,null,"Answer 1 - 3 Below",{"$nulls":10},"→ Enter Normal Commute Addresses in this box e.g. Home (1122 Boogie Ave) to Your WCB Office/SDL←"]
[null,null,"A Replacement Meal Payment may be paid to members where the CEU provided food but the member has:\n(1) a food allergy, or a medical condition, or a religious practice; which (2) prevented them from eating the provided meal; and (3) a the member purchased a replacement meal.",{"$nulls":10},"Did you have additional union-related mileage before returning home?→"]
[null,null,"Please confirm the 1 to 3 below:",{"$nulls":10},"↓Enter addition Line below detailing that union travel↓"]
[null,null,"1. Please confirm you have either a food allergy, a medical condition, or religious reason which prevented you from eating the provided meal.",{"$nulls":10},"Did you have additional union-related mileage before returning home?→"]
[null,null,"2. Please detail how the provided meal was contrary to the above.",{"$nulls":10},"→ Enter Addresses e.g. Hotel (with address) to CEU Office (13775 Commerce Pkwy) ←"]
[null,null,"3. Did you purchase a replacement meal?",null,"Yes","No","No Replacement Meal Purchased",{"$nulls":6},"Please indicate here either:\n1.\tThat you wish to be paid by Direct Deposit; or\n2.\tProvide your current mailing address (if you wish to be paid by cheque)."]
[{"$nulls":4},"Yes, I do.","No, I do not.","Does not meet criteria #1"]
[{"$nulls":13},"Classification Breakdown Complete"]
[{"$nulls":13},"Classification Breakdown INCOMPLETE"]
[{"$nulls":13},"CLASSIFICATION LISTS"]
[{"$nulls":13},"STATIONERY AND OFFICE EXPENSE:"]
[{"$nulls":13},"5640.01 Office Supplies/Snacks"]
[{"$nulls":13},"5640.02 Office Assets/Furniture"]
[{"$nulls":13},"5640.03 Office Services (e.g. security, fire, etc)"]
[{"$nulls":13},"5640.04 CEU Swag"]
[{"$nulls":13},"5640.99 Other"]
[{"$nulls":13},"LEGAL DEFENSE/MEDICAL REVIEW COMMITTEE:"]
[{"$nulls":13},"5479.01 Legal Defense Budget"]
[{"$nulls":13},"5479.02 Medical Review Committee"]
[{"$nulls":13},"LEGAL - GENERAL:"]
[{"$nulls":13},"5480.01 Research Costs by 3rd Parties - Legal/Lay Expert"]
[{"$nulls":13},"5480.02 CEU Internal Investigations/Facilitations"]
[{"$nulls":13},"5480.99 Other"]
[{"$nulls":13},"TRAVEL - CEU STAFF:"]
[{"$nulls":13},"5440.01 CEU Conference (e.g. Staff travel to steward conference)"]
[{"$nulls":13},"5440.02 Exec Meeting/Planning Sessions"]
[{"$nulls":13},"5440.03 Travel to CEU Area Office"]
[{"$nulls":13},"5440.99 Other"]
[{"$nulls":13},"EMPLOYEE BENEFITS:"]
[{"$nulls":13},"5692.01 Extended Dental/HCB and Disability/Life Insurance"]
[{"$nulls":13},"5692.02 Other Benefits (e.g. CLRO Law Society)"]
[{"$nulls":13},"5692.03 Retirement/Severance Benefits"]
[{"$nulls":13},"MEETINGS"]
[{"$nulls":13},"5500.01 Meeting Rooms"]
[{"$nulls":13},"5500.99 Other"]
[{"$nulls":13},"COURSES:"]
[{"$nulls":13},"5535.01.02 BCFed Convention"]
[{"$nulls":13},"5535.01.99 BCFed Other"]
[{"$nulls":13},"5535.02.01 CLC Winter School"]
[{"$nulls":13},"5535.02.02 CLC National Convention"]
[{"$nulls":13},"5535.02.99 CLC Other"]
[{"$nulls":13},"5535.03 NUPGE Convention"]
[{"$nulls":13},"5535.04.01 BCGEU Regional Seminar"]
[{"$nulls":13},"5535.04.99 BCGEU Other"]
[{"$nulls":13},"5535.05 OH&S BCGEU/CEU Conference"]
[{"$nulls":13},"5535.06 Summer Institute for Union Women (SIUW)"]
[{"$nulls":13},"5535.07 Share Investor Summit"]
[{"$nulls":13},"5535.99 Courses Other"]
[{"$nulls":13},"TRAVEL EXEC + STEWARDS"]
[{"$nulls":13},"INTERNAL:"]
[{"$nulls":13},"5540.01.1 Exec Meeting"]
[{"$nulls":13},"5540.01.2 Exec Planning Session"]
[{"$nulls":13},"5540.01.3 Travel to CEU Area Office"]
[{"$nulls":13},"5540.01.99 Internal - Other"]
[{"$nulls":13},"EXTERNAL:"]
[{"$nulls":13},"5540.02.1 BCFed Conferences/Conventions"]
[{"$nulls":13},"5540.02.2 BCFed Committee work (Executive Council & other BCFed Committees)"]
[{"$nulls":13},"5540.02.3 CLC Conferences/Conventions"]
[{"$nulls":13},"5540.02.4 NUPGE Conference and/or NUPGE Committee work"]
[{"$nulls":13},"5540.02.5 WCUC"]
[{"$nulls":13},"5540.02.99 External - Other"]
[{"$nulls":13},"SHOP STEWARDS COMMITTEE:"]
[{"$nulls":13},"5550.01 Steward Conferences/Seminars/Schools"]
[{"$nulls":13},"5550.02 New Steward Training"]
[{"$nulls":13},"5550.03 Travel to CEU Area Office"]
[{"$nulls":13},"5550.04 Steward Swag"]
[{"$nulls":13},"5550.99 Other"]
[{"$nulls":13},"MEMBERSHIP ENGAGEMENT:"]
[{"$nulls":13},"5552.01 Member Conference (One Day)"]
[{"$nulls":13},"5552.02 Member Engagement Recognition (6 Draw prizes)"]
[{"$nulls":13},"5552.99 Other"]
[{"$nulls":13},"SOLIDARITY:"]
[{"$nulls":13},"5555.01 Bursaries"]
[{"$nulls":13},"5555.02 Jointly Funded Charities"]
[{"$nulls":13},"5555.03 Women's Centers and Groups"]
[{"$nulls":13},"5555.04 Youth Related Groups and Charities"]
[{"$nulls":13},"5555.05 Helping Hands"]
[{"$nulls":13},"5555.06 Labour Events"]
[{"$nulls":13},"5555.07 General Health and OH&S"]
[{"$nulls":13},"5555.08 Promotional"]
[{"$nulls":13},"5555.09 Special Events"]
[{"$nulls":13},"5555.09.01 Special Events Abbotsford"]
[{"$nulls":13},"5555.09.02 Special Events Burnaby"]
[{"$nulls":13},"5555.09.03 Special Events Courtenay"]
[{"$nulls":13},"5555.09.04  Special Events Cranbrook"]
[{"$nulls":13},"5555.09.05 Special Events Fort St John"]
[{"$nulls":13},"5555.09.06 Special Events Kamloops"]
[{"$nulls":13},"5555.09.07 Special Events Kelowna"]
[{"$nulls":13},"5555.09.08 Special Events Nanaimo"]
[{"$nulls":13},"5555.09.09 Special Events Nelson"]
[{"$nulls":13},"5555.09.10 Special Events Port Moody"]
[{"$nulls":13},"5555.09.11 Special Events Prince George"]
[{"$nulls":13},"5555.09.12.1 Special Events Richmond - Quadrent 1"]
[{"$nulls":13},"5555.09.12.2 Special Events Richmond - Quadrent 2"]
[{"$nulls":13},"5555.09.12.3 Special Events Richmond - Quadrent 3"]
[{"$nulls":13},"5555.09.12.4 Special Events Richmond - Quadrent 4"]
[{"$nulls":13},"5555.09.13 Special Events Surrey"]
[{"$nulls":13},"5555.09.14 Special Events Terrace"]
[{"$nulls":13},"5555.09.15 Special Events Victoria"]
[{"$nulls":13},"5555.09.16 Special Events Williams Lake"]
[{"$nulls":13},"5555.09.99 Special Events Other"]
[{"$nulls":13},"5555.10 Yearly Memberships"]
[{"$nulls":13},"5555.11 Non-recurring Donation"]
{"$rows_empty":19}
[null,"`","All Yellow boxes below \nare mandatory.","CEU EXPENSE FORM                                                 (2024-06-08 Update)  "]
[null,null,"Name: ",{"$nulls":4},"Office:  "]
[null,null,"Reason for Travel:",{"$nulls":10},"Classification Breakdown",{"$nulls":3},"CLASSIFICATION SUB-TOTALS"]
[null,"Date (YYYY-MM-DD)","SECTION A - AIRFARE (NOTE ROUND-TRIP)",{"$nulls":6},"Amount","TOTAL A",{"$nulls":6},"TOTAL: ",{"$f":"SUM(S138:S242)","v":0},{"$f":"IF(S136='Expense Form'!K215,'Expense Form'!N18,'Expense Form'!N19)","v":"Classification Breakdown Complete"}]
[{"$nulls":10},{"$f":"SUM(J137:J139)","v":{"v":0,"d":"$0.00"}},{"$nulls":3},{"$f":"+J137","v":0}]
[{"$nulls":14},{"$f":"+J138","v":0},null,null,{"$f":"+'Expense Form'!N21","v":"STATIONERY AND OFFICE EXPENSE:"},{"$f":"SUMIF('Expense Form'!$N$137:$N$221,'Expense Form'!R138,'Expense Form'!$O$137:$O$221)","v":0}]
[null," ",{"$nulls":12},0,null,null,{"$f":"+'Expense Form'!N22","v":"5640.01 Office Supplies/Snacks"},{"$f":"SUMIF('Expense Form'!$N$137:$N$221,'Expense Form'!R139,'Expense Form'!$O$137:$O$221)","v":0}]
[null,"Date (YYYY-MM-DD)","SECTION B - OTHER TRANSPORTATION FROM/TO",{"$nulls":4},"Type (bus,taxi,ferry)",null,"Amount",{"$nulls":7},{"$f":"+'Expense Form'!N23","v":"5640.02 Office Assets/Furniture"},{"$f":"SUMIF('Expense Form'!$N$137:$N$221,'Expense Form'!R140,'Expense Form'!$O$137:$O$221)","v":0}]
[null," "," ",{"$nulls":11},{"$f":"+J141","v":0},null,null,{"$f":"+'Expense Form'!N24","v":"5640.03 Office Services (e.g. security, fire, etc)"},{"$f":"SUMIF('Expense Form'!$N$137:$N$221,'Expense Form'!R141,'Expense Form'!$O$137:$O$221)","v":0}]
[null,null," ",{"$nulls":11},0,null,null,{"$f":"+'Expense Form'!N25","v":"5640.04 CEU Swag"},{"$f":"SUMIF('Expense Form'!$N$137:$N$221,'Expense Form'!R142,'Expense Form'!$O$137:$O$221)","v":0}]
[null,null," ",{"$nulls":11},0,null,null,{"$f":"+'Expense Form'!N26","v":"5640.99 Other"},{"$f":"SUMIF('Expense Form'!$N$137:$N$221,'Expense Form'!R143,'Expense Form'!$O$137:$O$221)","v":0}]
[null,null," ",{"$nulls":7},"TOTAL B",{"$nulls":3},0,null,null,{"$f":"+'Expense Form'!N27","v":"LEGAL DEFENSE/MEDICAL REVIEW COMMITTEE:"},{"$f":"SUMIF('Expense Form'!$N$137:$N$221,'Expense Form'!R144,'Expense Form'!$O$137:$O$221)","v":0}]
[null,null," ",{"$nulls":7},{"$f":"SUM(J141:J146)","v":{"v":0,"d":"$0.00"}},{"$nulls":3},0,null,null,{"$f":"+'Expense Form'!N28","v":"5479.01 Legal Defense Budget"},{"$f":"SUMIF('Expense Form'!$N$137:$N$221,'Expense Form'!R145,'Expense Form'!$O$137:$O$221)","v":0}]
[null,null," ",{"$nulls":11},0,null,null,{"$f":"+'Expense Form'!N29","v":"5479.02 Medical Review Committee"},{"$f":"SUMIF('Expense Form'!$N$137:$N$221,'Expense Form'!R146,'Expense Form'!$O$137:$O$221)","v":0}]
[null,"Date (YYYY-MM-DD)","SECTION C - MISCELLANEOUS EXPENSES",{"$nulls":6},"Amount",{"$nulls":7},{"$f":"+'Expense Form'!N30","v":"LEGAL - GENERAL:"},{"$f":"SUMIF('Expense Form'!$N$137:$N$221,'Expense Form'!R147,'Expense Form'!$O$137:$O$221)","v":0}]
[null," ",{"$nulls":12},{"$f":"+J148","v":0},null,null,{"$f":"+'Expense Form'!N31","v":"5480.01 Research Costs by 3rd Parties - Legal/Lay Expert"},{"$f":"SUMIF('Expense Form'!$N$137:$N$221,'Expense Form'!R148,'Expense Form'!$O$137:$O$221)","v":0}]
[null," ",{"$nulls":12},0,null,null,{"$f":"+'Expense Form'!N32","v":"5480.02 CEU Internal Investigations/Facilitations"},{"$f":"SUMIF('Expense Form'!$N$137:$N$221,'Expense Form'!R149,'Expense Form'!$O$137:$O$221)","v":0}]
[null," ",{"$nulls":12},0,null,null,{"$f":"+'Expense Form'!N33","v":"5480.99 Other"},{"$f":"SUMIF('Expense Form'!$N$137:$N$221,'Expense Form'!R150,'Expense Form'!$O$137:$O$221)","v":0}]
[null," ",{"$nulls":8},"TOTAL C",{"$nulls":3},0,null,null,{"$f":"+'Expense Form'!N34","v":"TRAVEL - CEU STAFF:"},{"$f":"SUMIF('Expense Form'!$N$137:$N$221,'Expense Form'!R151,'Expense Form'!$O$137:$O$221)","v":0}]
[{"$nulls":10},{"$f":"SUM(J148:J153)","v":{"v":0,"d":"$0.00"}},{"$nulls":3},0,null,null,{"$f":"+'Expense Form'!N35","v":"5440.01 CEU Conference (e.g. Staff travel to steward conference)"},{"$f":"SUMIF('Expense Form'!$N$137:$N$221,'Expense Form'!R152,'Expense Form'!$O$137:$O$221)","v":0}]
[{"$nulls":14},0,null,null,{"$f":"+'Expense Form'!N36","v":"5440.02 Exec Meeting/Planning Sessions"},{"$f":"SUMIF('Expense Form'!$N$137:$N$221,'Expense Form'!R153,'Expense Form'!$O$137:$O$221)","v":0}]
[null,"SECTION D - MILEAGE            ( ",{"$nulls":3},{"v":0.7,"d":"$0.70"},"PER KILOMETRE)",{"$nulls":10},{"$f":"+'Expense Form'!N37","v":"5440.03 Travel to CEU Area Office"},{"$f":"SUMIF('Expense Form'!$N$137:$N$221,'Expense Form'!R154,'Expense Form'!$O$137:$O$221)","v":0}]
[null,"Are you applying for expense reimbursement related to Mileage? →",{"$nulls":7},{"$f":"IF(I156=N2,N4,\"\")","v":""},{"$nulls":7},{"$f":"+'Expense Form'!N38","v":"5440.99 Other"},{"$f":"SUMIF('Expense Form'!$N$137:$N$221,'Expense Form'!R155,'Expense Form'!$O$137:$O$221)","v":0}]
[null,"Was this a CEU general meeting (including an AGM, or a local update meeting in your normal work community)? →",{"$nulls":15},{"$f":"+'Expense Form'!N39","v":"EMPLOYEE BENEFITS:"},{"$f":"SUMIF('Expense Form'!$N$137:$N$221,'Expense Form'!R156,'Expense Form'!$O$137:$O$221)","v":0}]
[null,"Date:\nYYYY-MM-DD","Above mileage/km for the first 5,000 kilometres driven per year.  After that, it is paid at 64¢ per km.\nIt is your obligation to track this.\nStart Address to Destination Address. \nNew Block Section for each destination/direction.",{"$nulls":3},"KM","Difference Between CEU trip and\nCommute to Work",null,"Payable\nAmount",{"$f":"IF($J$155=$N$4,\"↓\",\"\")","v":""},{"$nulls":6},{"$f":"+'Expense Form'!N40","v":"5692.01 Extended Dental/HCB and Disability/Life Insurance"},{"$f":"SUMIF('Expense Form'!$N$137:$N$221,'Expense Form'!R157,'Expense Form'!$O$137:$O$221)","v":0}]
[null,null,{"$f":"IF(I156=N3,N5,\"\")","v":""},{"$nulls":14},{"$f":"+'Expense Form'!N41","v":"5692.02 Other Benefits (e.g. CLRO Law Society)"},{"$f":"SUMIF('Expense Form'!$N$137:$N$221,'Expense Form'!R158,'Expense Form'!$O$137:$O$221)","v":0}]
[null,null,{"$f":"IF(I156=N3,N7,\"\")","v":""},{"$nulls":14},{"$f":"+'Expense Form'!N42","v":"5692.03 Retirement/Severance Benefits"},{"$f":"SUMIF('Expense Form'!$N$137:$N$221,'Expense Form'!R159,'Expense Form'!$O$137:$O$221)","v":0}]
[null,null,{"$f":"IF(G158=N2,N10,\"\")","v":""},{"$nulls":14},{"$f":"+'Expense Form'!N43","v":"MEETINGS"},{"$f":"SUMIF('Expense Form'!$N$137:$N$221,'Expense Form'!R160,'Expense Form'!$O$137:$O$221)","v":0}]
[null,null,{"$f":"IF(G158=N2,N11,\"\")","v":""},{"$nulls":4},{"$f":"IF(G159>G161,G159-G161,0)","v":{"v":0,"d":"0.0"}},null,{"$f":"+H161*$F$154","v":{"v":0,"d":"$0.00"}},{"$nulls":4},{"$f":"+J161","v":0},null,null,{"$f":"+'Expense Form'!N44","v":"5500.01 Meeting Rooms"},{"$f":"SUMIF('Expense Form'!$N$137:$N$221,'Expense Form'!R161,'Expense Form'!$O$137:$O$221)","v":0}]
[null,null,{"$f":"IF(I156=N3,N6,\"\")","v":""},{"$nulls":4},"Diff'nce",null,"Payable\nAmount",{"$nulls":7},{"$f":"+'Expense Form'!N45","v":"5500.99 Other"},{"$f":"SUMIF('Expense Form'!$N$137:$N$221,'Expense Form'!R162,'Expense Form'!$O$137:$O$221)","v":0}]
[null,null,{"$f":"IF(I156=N3,N9,\"\")","v":""},{"$nulls":14},{"$f":"+'Expense Form'!N46","v":"COURSES:"},{"$f":"SUMIF('Expense Form'!$N$137:$N$221,'Expense Form'!R163,'Expense Form'!$O$137:$O$221)","v":0}]
[null,null,{"$f":"IF(G162=N2,N10,\"\")","v":""},{"$nulls":11},{"$f":"+J164","v":0},null,null,{"$f":"+'Expense Form'!N47","v":"5535.01.02 BCFed Convention"},{"$f":"SUMIF('Expense Form'!$N$137:$N$221,'Expense Form'!R164,'Expense Form'!$O$137:$O$221)","v":0}]
[null,null,{"$f":"IF(G162=N2,N11,\"\")","v":""},{"$nulls":4},{"$f":"IF(G163>G165,G163-G165,0)","v":{"v":0,"d":"0.0"}},null,{"$f":"+H165*$F$154","v":{"v":0,"d":"$0.00"}},{"$nulls":4},{"$f":"+J165","v":0},null,null,{"$f":"+'Expense Form'!N48","v":"5535.01.99 BCFed Other"},{"$f":"SUMIF('Expense Form'!$N$137:$N$221,'Expense Form'!R165,'Expense Form'!$O$137:$O$221)","v":0}]
[null,null,{"$f":"IF(I156=N3,N12,\"\")","v":""},{"$nulls":14},{"$f":"+'Expense Form'!N49","v":"5535.02.01 CLC Winter School"},{"$f":"SUMIF('Expense Form'!$N$137:$N$221,'Expense Form'!R166,'Expense Form'!$O$137:$O$221)","v":0}]
[null,null,{"$f":"IF(G166=$N$2,$N$13,\"\")","v":""},{"$nulls":14},{"$f":"+'Expense Form'!N50","v":"5535.02.02 CLC National Convention"},{"$f":"SUMIF('Expense Form'!$N$137:$N$221,'Expense Form'!R167,'Expense Form'!$O$137:$O$221)","v":0}]
[null,null,{"$f":"IF(G166=$N$2,$N$15,\"\")","v":""},{"$nulls":4},{"$f":"+G168","v":{"v":0,"d":"0.0"}},null,{"$f":"+H168*$F$154","v":{"v":0,"d":"$0.00"}},{"$nulls":4},{"$f":"+J168","v":0},null,null,{"$f":"+'Expense Form'!N51","v":"5535.02.99 CLC Other"},{"$f":"SUMIF('Expense Form'!$N$137:$N$221,'Expense Form'!R168,'Expense Form'!$O$137:$O$221)","v":0}]
[null,null,{"$f":"IF(G166=N2,N14,\"\")","v":""},{"$nulls":14},{"$f":"+'Expense Form'!N52","v":"5535.03 NUPGE Convention"},{"$f":"SUMIF('Expense Form'!$N$137:$N$221,'Expense Form'!R169,'Expense Form'!$O$137:$O$221)","v":0}]
[null,null,{"$f":"IF(G169=$N$2,$N$13,\"\")","v":""},{"$nulls":14},{"$f":"+'Expense Form'!N53","v":"5535.04.01 BCGEU Regional Seminar"},{"$f":"SUMIF('Expense Form'!$N$137:$N$221,'Expense Form'!R170,'Expense Form'!$O$137:$O$221)","v":0}]
[null,null,{"$f":"IF(G169=$N$2,$N$15,\"\")","v":""},{"$nulls":4},{"$f":"+G171","v":{"v":0,"d":"0.0"}},null,{"$f":"+H171*$F$154","v":{"v":0,"d":"$0.00"}},{"$nulls":4},{"$f":"+J171","v":0},null,null,{"$f":"+'Expense Form'!N54","v":"5535.04.99 BCGEU Other"},{"$f":"SUMIF('Expense Form'!$N$137:$N$221,'Expense Form'!R171,'Expense Form'!$O$137:$O$221)","v":0}]
[null,null,{"$f":"IF(G169=N2,N14,\"\")","v":""},{"$nulls":14},{"$f":"+'Expense Form'!N55","v":"5535.05 OH&S BCGEU/CEU Conference"},{"$f":"SUMIF('Expense Form'!$N$137:$N$221,'Expense Form'!R172,'Expense Form'!$O$137:$O$221)","v":0}]
[null,null,{"$f":"IF(G172=$N$2,$N$13,\"\")","v":""},{"$nulls":14},{"$f":"+'Expense Form'!N56","v":"5535.06 Summer Institute for Union Women (SIUW)"},{"$f":"SUMIF('Expense Form'!$N$137:$N$221,'Expense Form'!R173,'Expense Form'!$O$137:$O$221)","v":0}]
[null,null,{"$f":"IF(G172=$N$2,$N$15,\"\")","v":""},{"$nulls":4},{"$f":"+G174","v":{"v":0,"d":"0.0"}},null,{"$f":"+H174*$F$154","v":{"v":0,"d":"$0.00"}},{"$nulls":4},{"$f":"+J174","v":0},null,null,{"$f":"+'Expense Form'!N57","v":"5535.07 Share Investor Summit"},{"$f":"SUMIF('Expense Form'!$N$137:$N$221,'Expense Form'!R174,'Expense Form'!$O$137:$O$221)","v":0}]
[null,null,{"$f":"IF(G172=N2,N14,\"\")","v":""},{"$nulls":14},{"$f":"+'Expense Form'!N58","v":"5535.99 Courses Other"},{"$f":"SUMIF('Expense Form'!$N$137:$N$221,'Expense Form'!R175,'Expense Form'!$O$137:$O$221)","v":0}]
[null,null,{"$f":"IF(G175=$N$2,$N$13,\"\")","v":""},{"$nulls":14},{"$f":"+'Expense Form'!N59","v":"TRAVEL EXEC + STEWARDS"},{"$f":"SUMIF('Expense Form'!$N$137:$N$221,'Expense Form'!R176,'Expense Form'!$O$137:$O$221)","v":0}]
[null,null,{"$f":"IF(G175=$N$2,$N$15,\"\")","v":""},{"$nulls":4},{"$f":"+G177","v":{"v":0,"d":"0.0"}},null,{"$f":"+H177*$F$154","v":{"v":0,"d":"$0.00"}},{"$nulls":4},{"$f":"+J177","v":0},null,null,{"$f":"+'Expense Form'!N60","v":"INTERNAL:"},{"$f":"SUMIF('Expense Form'!$N$137:$N$221,'Expense Form'!R177,'Expense Form'!$O$137:$O$221)","v":0}]
[null,null,{"$f":"IF(G175=N2,N14,\"\")","v":""},{"$nulls":7},"TOTAL D",{"$nulls":6},{"$f":"+'Expense Form'!N61","v":"5540.01.1 Exec Meeting"},{"$f":"SUMIF('Expense Form'!$N$137:$N$221,'Expense Form'!R178,'Expense Form'!$O$137:$O$221)","v":0}]
[null,null,{"$f":"IF(G178=$N$2,$N$13,\"\")","v":""},{"$nulls":7},{"$f":"IF(J155=N4,0,SUM(J161:J180))","v":{"v":0,"d":"$0.00"}},{"$nulls":6},{"$f":"+'Expense Form'!N62","v":"5540.01.2 Exec Planning Session"},{"$f":"SUMIF('Expense Form'!$N$137:$N$221,'Expense Form'!R179,'Expense Form'!$O$137:$O$221)","v":0}]
[null,null,{"$f":"IF(G178=$N$2,$N$15,\"\")","v":""},{"$nulls":4},{"$f":"+G180","v":{"v":0,"d":"0.0"}},null,{"$f":"+H180*$F$154","v":{"v":0,"d":"$0.00"}},{"$nulls":4},{"$f":"+J180","v":0},null,null,{"$f":"+'Expense Form'!N63","v":"5540.01.3 Travel to CEU Area Office"},{"$f":"SUMIF('Expense Form'!$N$137:$N$221,'Expense Form'!R180,'Expense Form'!$O$137:$O$221)","v":0}]
[null,"SECTION E - MEALS/INCIDENTALS",{"$nulls":15},{"$f":"+'Expense Form'!N64","v":"5540.01.99 Internal - Other"},{"$f":"SUMIF('Expense Form'!$N$137:$N$221,'Expense Form'!R181,'Expense Form'!$O$137:$O$221)","v":0}]
[null,"Date (YYYY-MM-DD)","BREAKFAST","LUNCH","DINNER","INCIDENTALS",null,"*Incidentals are generally payable when spending overnight\nand not for the increased travel time of Airfare Equivalent travel time",{"$nulls":9},{"$f":"+'Expense Form'!N65","v":"EXTERNAL:"},{"$f":"SUMIF('Expense Form'!$N$137:$N$221,'Expense Form'!R182,'Expense Form'!$O$137:$O$221)","v":0}]
[null,"Not Payable when:  ",{"$f":"+C6","v":"No Breakfast$>6:30am Start"},"No Lunch$>12:0pm Start","No Dinner$ Home < 6:30 pm",{"$nulls":12},{"$f":"+'Expense Form'!N66","v":"5540.02.1 BCFed Conferences/Conventions"},{"$f":"SUMIF('Expense Form'!$N$137:$N$221,'Expense Form'!R183,'Expense Form'!$O$137:$O$221)","v":0}]
[null,{"$f":"+B7","v":"Effective April 1, 2022: "},{"v":16,"d":"$16.00"},{"v":18,"d":"$18.00"},{"v":30,"d":"$30.00"},{"$f":"+F7","v":{"v":10,"d":"$10.00"}},{"$f":"+G7","v":0},{"$nulls":10},{"$f":"+'Expense Form'!N67","v":"5540.02.2 BCFed Committee work (Executive Council & other BCFed Committees)"},{"$f":"SUMIF('Expense Form'!$N$137:$N$221,'Expense Form'!R184,'Expense Form'!$O$137:$O$221)","v":0}]
[null,"Not Payable when:  ","Included w/Hotel or Event","Included w/Hotel or Event","Included w/Hotel or Event",{"$nulls":12},{"$f":"+'Expense Form'!N68","v":"5540.02.3 CLC Conferences/Conventions"},{"$f":"SUMIF('Expense Form'!$N$137:$N$221,'Expense Form'!R185,'Expense Form'!$O$137:$O$221)","v":0}]
[{"$nulls":14},{"$f":"SUM(C186:G186)","v":0},null,null,{"$f":"+'Expense Form'!N69","v":"5540.02.4 NUPGE Conference and/or NUPGE Committee work"},{"$f":"SUMIF('Expense Form'!$N$137:$N$221,'Expense Form'!R186,'Expense Form'!$O$137:$O$221)","v":0}]
[{"$nulls":14},{"$f":"SUM(C187:G187)","v":0},null,null,{"$f":"+'Expense Form'!N70","v":"5540.02.5 WCUC"},{"$f":"SUMIF('Expense Form'!$N$137:$N$221,'Expense Form'!R187,'Expense Form'!$O$137:$O$221)","v":0}]
[{"$nulls":14},0,null,null,{"$f":"+'Expense Form'!N71","v":"5540.02.99 External - Other"},{"$f":"SUMIF('Expense Form'!$N$137:$N$221,'Expense Form'!R188,'Expense Form'!$O$137:$O$221)","v":0}]
[{"$nulls":14},0,null,null,{"$f":"+'Expense Form'!N72","v":"SHOP STEWARDS COMMITTEE:"},{"$f":"SUMIF('Expense Form'!$N$137:$N$221,'Expense Form'!R189,'Expense Form'!$O$137:$O$221)","v":0}]
[{"$nulls":14},0,null,null,{"$f":"+'Expense Form'!N73","v":"5550.01 Steward Conferences/Seminars/Schools"},{"$f":"SUMIF('Expense Form'!$N$137:$N$221,'Expense Form'!R190,'Expense Form'!$O$137:$O$221)","v":0}]
[{"$nulls":14},0,null,null,{"$f":"+'Expense Form'!N74","v":"5550.02 New Steward Training"},{"$f":"SUMIF('Expense Form'!$N$137:$N$221,'Expense Form'!R191,'Expense Form'!$O$137:$O$221)","v":0}]
[{"$nulls":10},"TOTAL E",{"$nulls":3},0,null,null,{"$f":"+'Expense Form'!N75","v":"5550.03 Travel to CEU Area Office"},{"$f":"SUMIF('Expense Form'!$N$137:$N$221,'Expense Form'!R192,'Expense Form'!$O$137:$O$221)","v":0}]
[{"$nulls":10},{"$f":"SUM(C194:G195)","v":{"v":0,"d":"$0.00"}},{"$nulls":3},0,null,null,{"$f":"+'Expense Form'!N76","v":"5550.04 Steward Swag"},{"$f":"SUMIF('Expense Form'!$N$137:$N$221,'Expense Form'!R193,'Expense Form'!$O$137:$O$221)","v":0}]
[null,"Sub-Totals:",{"$f":"SUM(C186:C193)","v":{"v":0,"d":"$0.00"}},{"$f":"SUM(D186:D193)","v":{"v":0,"d":"$0.00"}},{"$f":"SUM(E186:E193)","v":{"v":0,"d":"$0.00"}},{"$f":"SUM(F186:F193)","v":{"v":0,"d":"$0.00"}},{"$nulls":11},{"$f":"+'Expense Form'!N77","v":"5550.99 Other"},{"$f":"SUMIF('Expense Form'!$N$137:$N$221,'Expense Form'!R194,'Expense Form'!$O$137:$O$221)","v":0}]
[null,{"$f":"IF(COUNTIF(C186:E193,$C$9)>0,CONCATENATE(C9,\":\"),\"\")","v":""},{"$f":"IF($C$199=$F$17,$G$17,IF($D$202=$F$16,$G$16,IF(COUNTIF(C186:C193,$C$9)>0,IF($C$199>0,IF($C$201>0,IF($D$202=$E$16,COUNTIF(C186:C193,$C$9)*C184,$C$11),$C$11),$C$11),\"\")))","v":""},{"$f":"IF($C$199=$F$17,$G$17,IF($D$202=$F$16,$G$16,IF(COUNTIF(D186:D193,$C$9)>0,IF($C$199>0,IF($C$201>0,IF($D$202=$E$16,COUNTIF(D186:D193,$C$9)*D184,$C$11),$C$11),$C$11),\"\")))","v":""},{"$f":"IF($C$199=$F$17,$G$17,IF($D$202=$F$16,$G$16,IF(COUNTIF(E186:E193,$C$9)>0,IF($C$199>0,IF($C$201>0,IF($D$202=$E$16,COUNTIF(E186:E193,$C$9)*E184,$C$11),$C$11),$C$11),\"\")))","v":""},{"$nulls":12},{"$f":"+'Expense Form'!N78","v":"MEMBERSHIP ENGAGEMENT:"},{"$f":"SUMIF('Expense Form'!$N$137:$N$221,'Expense Form'!R195,'Expense Form'!$O$137:$O$221)","v":0}]
[null,{"$f":"IF(COUNTIF(C186:E193,C9)>0,C12,\"\")","v":""},{"$nulls":15},{"$f":"+'Expense Form'!N79","v":"5552.01 Member Conference (One Day)"},{"$f":"SUMIF('Expense Form'!$N$137:$N$221,'Expense Form'!R196,'Expense Form'!$O$137:$O$221)","v":0}]
[null,{"$f":"IF($B$196=$C$12,C13,\"\")","v":""},{"$nulls":15},{"$f":"+'Expense Form'!N80","v":"5552.02 Member Engagement Recognition (6 Draw prizes)"},{"$f":"SUMIF('Expense Form'!$N$137:$N$221,'Expense Form'!R197,'Expense Form'!$O$137:$O$221)","v":0}]
[null,{"$f":"IF($B$196=$C$12,C14,\"\")","v":""},{"$nulls":15},{"$f":"+'Expense Form'!N81","v":"5552.99 Other"},{"$f":"SUMIF('Expense Form'!$N$137:$N$221,'Expense Form'!R198,'Expense Form'!$O$137:$O$221)","v":0}]
[{"$nulls":17},{"$f":"+'Expense Form'!N82","v":"SOLIDARITY:"},{"$f":"SUMIF('Expense Form'!$N$137:$N$221,'Expense Form'!R199,'Expense Form'!$O$137:$O$221)","v":0}]
[null,{"$f":"IF($B$196=$C$12,C15,\"\")","v":""},{"$nulls":15},{"$f":"+'Expense Form'!N83","v":"5555.01 Bursaries"},{"$f":"SUMIF('Expense Form'!$N$137:$N$221,'Expense Form'!R200,'Expense Form'!$O$137:$O$221)","v":0}]
[{"$nulls":17},{"$f":"+'Expense Form'!N84","v":"5555.02 Jointly Funded Charities"},{"$f":"SUMIF('Expense Form'!$N$137:$N$221,'Expense Form'!R201,'Expense Form'!$O$137:$O$221)","v":0}]
[null,{"$f":"IF($B$196=$C$12,C16,\"\")","v":""},{"$nulls":15},{"$f":"+'Expense Form'!N85","v":"5555.03 Women's Centers and Groups"},{"$f":"SUMIF('Expense Form'!$N$137:$N$221,'Expense Form'!R202,'Expense Form'!$O$137:$O$221)","v":0}]
[{"$nulls":17},{"$f":"+'Expense Form'!N86","v":"5555.04 Youth Related Groups and Charities"},{"$f":"SUMIF('Expense Form'!$N$137:$N$221,'Expense Form'!R203,'Expense Form'!$O$137:$O$221)","v":0}]
[null,"SUB-TOTAL A to E:",{"$nulls":4},{"$f":"+K137+K145+K152+K179+K193","v":{"v":0,"d":"$0.00"}},{"$nulls":3},"SUB-TOTAL \nA to E",{"$nulls":6},{"$f":"+'Expense Form'!N87","v":"5555.05 Helping Hands"},{"$f":"SUMIF('Expense Form'!$N$137:$N$221,'Expense Form'!R204,'Expense Form'!$O$137:$O$221)","v":0}]
[{"$nulls":17},{"$f":"+'Expense Form'!N88","v":"5555.06 Labour Events"},{"$f":"SUMIF('Expense Form'!$N$137:$N$221,'Expense Form'!R205,'Expense Form'!$O$137:$O$221)","v":0}]
[{"$nulls":17},{"$f":"+'Expense Form'!N89","v":"5555.07 General Health and OH&S"},{"$f":"SUMIF('Expense Form'!$N$137:$N$221,'Expense Form'!R206,'Expense Form'!$O$137:$O$221)","v":0}]
[null,"SECTION F - ACCOMMODATIONS / ACCOMMODATION EQUIVALENT                                                                                                                .",{"$nulls":15},{"$f":"+'Expense Form'!N90","v":"5555.08 Promotional"},{"$f":"SUMIF('Expense Form'!$N$137:$N$221,'Expense Form'!R207,'Expense Form'!$O$137:$O$221)","v":0}]
[null,"Date(s) from/to (YYYY-MM-DD to YYYY-MM-DD)",null,"Hotel Name or Enter \"Hotel Equivalent\"",{"$nulls":5},"Amount",{"$nulls":7},{"$f":"+'Expense Form'!N91","v":"5555.09 Special Events"},{"$f":"SUMIF('Expense Form'!$N$137:$N$221,'Expense Form'!R208,'Expense Form'!$O$137:$O$221)","v":0}]
[{"$nulls":14},{"$f":"+J209","v":0},null,null,{"$f":"+'Expense Form'!N92","v":"5555.09.01 Special Events Abbotsford"},{"$f":"SUMIF('Expense Form'!$N$137:$N$221,'Expense Form'!R209,'Expense Form'!$O$137:$O$221)","v":0}]
[{"$nulls":10},"TOTAL F",{"$nulls":3},{"$f":"+J210","v":0},null,null,{"$f":"+'Expense Form'!N93","v":"5555.09.02 Special Events Burnaby"},{"$f":"SUMIF('Expense Form'!$N$137:$N$221,'Expense Form'!R210,'Expense Form'!$O$137:$O$221)","v":0}]
[{"$nulls":14},0,null,null,{"$f":"+'Expense Form'!N94","v":"5555.09.03 Special Events Courtenay"},{"$f":"SUMIF('Expense Form'!$N$137:$N$221,'Expense Form'!R211,'Expense Form'!$O$137:$O$221)","v":0}]
[{"$nulls":10},{"$f":"SUM(J209:J213)","v":{"v":0,"d":"$0.00"}},{"$nulls":3},0,null,null,{"$f":"+'Expense Form'!N95","v":"5555.09.04  Special Events Cranbrook"},{"$f":"SUMIF('Expense Form'!$N$137:$N$221,'Expense Form'!R212,'Expense Form'!$O$137:$O$221)","v":0}]
[{"$nulls":14},0,null,null,{"$f":"+'Expense Form'!N96","v":"5555.09.05 Special Events Fort St John"},{"$f":"SUMIF('Expense Form'!$N$137:$N$221,'Expense Form'!R213,'Expense Form'!$O$137:$O$221)","v":0}]
[{"$nulls":17},{"$f":"+'Expense Form'!N97","v":"5555.09.06 Special Events Kamloops"},{"$f":"SUMIF('Expense Form'!$N$137:$N$221,'Expense Form'!R214,'Expense Form'!$O$137:$O$221)","v":0}]
[null,"Date Signed/Submitted: ",{"$nulls":7},"TOTAL: A to E + F",{"$f":"+G204+K212","v":{"v":0,"d":"$0.00"}},{"$nulls":6},{"$f":"+'Expense Form'!N98","v":"5555.09.07 Special Events Kelowna"},{"$f":"SUMIF('Expense Form'!$N$137:$N$221,'Expense Form'!R215,'Expense Form'!$O$137:$O$221)","v":0}]
[{"$nulls":17},{"$f":"+'Expense Form'!N99","v":"5555.09.08 Special Events Nanaimo"},{"$f":"SUMIF('Expense Form'!$N$137:$N$221,'Expense Form'!R216,'Expense Form'!$O$137:$O$221)","v":0}]
[null,"Please clarify the payment method \n1. Direct Deposit                                                         --->\n2. Cheque (we need your mailing address)",null,{"$f":"+N16","v":"Please indicate here either:\n1.\tThat you wish to be paid by Direct Deposit; or\n2.\tProvide your current mailing address (if you wish to be paid by cheque)."},{"$nulls":13},{"$f":"+'Expense Form'!N100","v":"5555.09.09 Special Events Nelson"},{"$f":"SUMIF('Expense Form'!$N$137:$N$221,'Expense Form'!R217,'Expense Form'!$O$137:$O$221)","v":0}]
[{"$nulls":17},{"$f":"+'Expense Form'!N101","v":"5555.09.10 Special Events Port Moody"},{"$f":"SUMIF('Expense Form'!$N$137:$N$221,'Expense Form'!R218,'Expense Form'!$O$137:$O$221)","v":0}]
[null,"Signature:\nOr indicate it has been submitted by email",{"$nulls":7},"LESS\nADVANCE(S)",{"v":0,"d":"$0.00"},{"$nulls":6},{"$f":"+'Expense Form'!N102","v":"5555.09.11 Special Events Prince George"},{"$f":"SUMIF('Expense Form'!$N$137:$N$221,'Expense Form'!R219,'Expense Form'!$O$137:$O$221)","v":0}]
[{"$nulls":17},{"$f":"+'Expense Form'!N103","v":"5555.09.12.1 Special Events Richmond - Quadrent 1"},{"$f":"SUMIF('Expense Form'!$N$137:$N$221,'Expense Form'!R220,'Expense Form'!$O$137:$O$221)","v":0}]
[null,"Expense forms are to be submitted to treasurer@ceu.bc.ca with receipts attached to your email. Thank you.\nUUP forms are to be submitted to the CEU President",{"$nulls":7},"AMOUNT\nOWING",{"$f":"K215-K219","v":{"v":0,"d":"$0.00"}},{"$nulls":6},{"$f":"+'Expense Form'!N104","v":"5555.09.12.2 Special Events Richmond - Quadrent 2"},{"$f":"SUMIF('Expense Form'!$N$137:$N$221,'Expense Form'!R221,'Expense Form'!$O$137:$O$221)","v":0}]
[{"$nulls":14},{"$f":"SUM(O137:O221)","v":0},"TOTAL",null,{"$f":"+'Expense Form'!N105","v":"5555.09.12.3 Special Events Richmond - Quadrent 3"},{"$f":"SUMIF('Expense Form'!$N$137:$N$221,'Expense Form'!R222,'Expense Form'!$O$137:$O$221)","v":0}]
[null,"OFFICE USE ONLY",{"$nulls":15},{"$f":"+'Expense Form'!N106","v":"5555.09.12.4 Special Events Richmond - Quadrent 4"},{"$f":"SUMIF('Expense Form'!$N$137:$N$221,'Expense Form'!R223,'Expense Form'!$O$137:$O$221)","v":0}]
[null,"Notes: When approving travel, please confirm to Bookkeeper the account/classification:",{"$nulls":15},{"$f":"+'Expense Form'!N107","v":"5555.09.13 Special Events Surrey"},{"$f":"SUMIF('Expense Form'!$N$137:$N$221,'Expense Form'!R224,'Expense Form'!$O$137:$O$221)","v":0}]
[null,"5540 Travel Exec + Stewards\n5540.01 Internal\n     5540.01.1 Exec Meeting\n     5540.01.2 Exec Planning Session\n     5540.01.3 Travel to CEU Area Office\n     5540.01.99 Internal - Other",null,"5540 Travel Exec + Stewards\n5540.02 External\n     5540.02.1 BCFed Conferences/Conventions\n     5540.02.2 BCFed Committee work (Executive Council & other BCFed Committees)\n     5540.02.3 CLC Conferences/Conventions\n     5540.02.4 NUPGE Conference and/or NUPGE Committee work\n     5540.02.5 WCUC\n     5540.02.99 External - Other",{"$nulls":3},"5550 Shop Stewards Committee\n     5550.01 Steward Conferences/Seminars/Schools\n     5550.02 New Steward Training\n     5550.03 Travel to CEU Area Office\n5552 Membership Engagement\n5552.01 Member Conference (One Day)\n5552.02 Member Engagement Recognition (6 Draw prizes)\n5552.99 Other",{"$nulls":9},{"$f":"+'Expense Form'!N108","v":"5555.09.14 Special Events Terrace"},{"$f":"SUMIF('Expense Form'!$N$137:$N$221,'Expense Form'!R225,'Expense Form'!$O$137:$O$221)","v":0}]
[{"$nulls":17},{"$f":"+'Expense Form'!N109","v":"5555.09.15 Special Events Victoria"},{"$f":"SUMIF('Expense Form'!$N$137:$N$221,'Expense Form'!R226,'Expense Form'!$O$137:$O$221)","v":0}]
[{"$nulls":17},{"$f":"+'Expense Form'!N110","v":"5555.09.16 Special Events Williams Lake"},{"$f":"SUMIF('Expense Form'!$N$137:$N$221,'Expense Form'!R227,'Expense Form'!$O$137:$O$221)","v":0}]
[{"$nulls":17},{"$f":"+'Expense Form'!N111","v":"5555.09.99 Special Events Other"},{"$f":"SUMIF('Expense Form'!$N$137:$N$221,'Expense Form'!R228,'Expense Form'!$O$137:$O$221)","v":0}]
[{"$nulls":17},{"$f":"+'Expense Form'!N112","v":"5555.10 Yearly Memberships"},{"$f":"SUMIF('Expense Form'!$N$137:$N$221,'Expense Form'!R229,'Expense Form'!$O$137:$O$221)","v":0}]
[{"$nulls":17},{"$f":"+'Expense Form'!N113","v":"5555.11 Non-recurring Donation"},{"$f":"SUMIF('Expense Form'!$N$137:$N$221,'Expense Form'!R230,'Expense Form'!$O$137:$O$221)","v":0}]
[{"$nulls":17},{"$f":"+'Expense Form'!N114","v":0},{"$f":"SUMIF('Expense Form'!$N$137:$N$221,'Expense Form'!R231,'Expense Form'!$O$137:$O$221)","v":0}]
[{"$nulls":17},{"$f":"+'Expense Form'!N115","v":0},{"$f":"SUMIF('Expense Form'!$N$137:$N$221,'Expense Form'!R232,'Expense Form'!$O$137:$O$221)","v":0}]
[{"$nulls":17},{"$f":"+'Expense Form'!N116","v":0},{"$f":"SUMIF('Expense Form'!$N$137:$N$221,'Expense Form'!R233,'Expense Form'!$O$137:$O$221)","v":0}]
[{"$nulls":17},{"$f":"+'Expense Form'!N117","v":0},{"$f":"SUMIF('Expense Form'!$N$137:$N$221,'Expense Form'!R234,'Expense Form'!$O$137:$O$221)","v":0}]
[{"$nulls":17},{"$f":"+'Expense Form'!N118","v":0},{"$f":"SUMIF('Expense Form'!$N$137:$N$221,'Expense Form'!R235,'Expense Form'!$O$137:$O$221)","v":0}]
[{"$nulls":17},{"$f":"+'Expense Form'!N119","v":0},{"$f":"SUMIF('Expense Form'!$N$137:$N$221,'Expense Form'!R236,'Expense Form'!$O$137:$O$221)","v":0}]
[{"$nulls":17},{"$f":"+'Expense Form'!N120","v":0},{"$f":"SUMIF('Expense Form'!$N$137:$N$221,'Expense Form'!R237,'Expense Form'!$O$137:$O$221)","v":0}]
[{"$nulls":17},{"$f":"+'Expense Form'!N121","v":0},{"$f":"SUMIF('Expense Form'!$N$137:$N$221,'Expense Form'!R238,'Expense Form'!$O$137:$O$221)","v":0}]
[{"$nulls":17},{"$f":"+'Expense Form'!N122","v":0},{"$f":"SUMIF('Expense Form'!$N$137:$N$221,'Expense Form'!R239,'Expense Form'!$O$137:$O$221)","v":0}]
[{"$nulls":17},{"$f":"+'Expense Form'!N123","v":0},{"$f":"SUMIF('Expense Form'!$N$137:$N$221,'Expense Form'!R240,'Expense Form'!$O$137:$O$221)","v":0}]
[{"$nulls":17},{"$f":"+'Expense Form'!N124","v":0},{"$f":"SUMIF('Expense Form'!$N$137:$N$221,'Expense Form'!R241,'Expense Form'!$O$137:$O$221)","v":0}]
[{"$nulls":17},{"$f":"+'Expense Form'!N125","v":0},{"$f":"SUMIF('Expense Form'!$N$137:$N$221,'Expense Form'!R242,'Expense Form'!$O$137:$O$221)","v":0}]